Workbook
Name Imprimir_área_IM: Porcentuales!$B$2:$J$30

Sheet Ingresos
A1: MUNICIPALIDAD DE MENDIOLAZA P R I M E R A P A R T E - I N G R E S O S | E1: A Ñ O 2 0 2 3 | G1: Hoja Nº 1
A2: CODIGO | C2: SUBRUBROS | D2: RUBROS | E2: TOTAL ITEM | F2: INCISO | G2: TOTAL ANEXO
A3: 1.0.00.00.00.00.000 | B3: INGRESOS CORRIENTES | G3: =SUM(F4:F52) -> 2415424489
A4: 1.1.00.00.00.00.000 | B4: INGRESOS DE JURISDICCION MUNICIPAL | F4: =SUM(E5:E28) -> 1101260000
A5: 1.1.00.01.00.00.000 | B5: INGRESOS TRIBUTARIOS (TASAS Y CONTRIBUCIONES) | E5: =SUM(D6:D27) -> 1018430000
A6: 1.1.00.01.00.01.000 | B6: Contrib. inc. s/los Inmuebles | D6: 330000000
A7: 1.1.00.01.00.02.000 | B7: Contrib. que inc. s/el Comercio y la Industria | D7: 22200000 | E7: -
A8: 1.1.00.01.00.03.000 | B8: Contrib. que inc. s/el Comercio y la Industria - EPEC | D8: 6200000
A9: 1.1.00.01.00.04.000 | B9: Adicional Tasa a la Propiedad 10% | D9: 28000000
A10: 1.1.00.01.00.05.000 | B10: Contrib. p/Serv. Relativo a la Constr. de Obras Priv. | D10: =SUM(C11:C11) -> 31000000
A11: 1.1.00.01.00.05.001 | B11: Obras Privadas | C11: 31000000
A12: 1.1.00.01.00.06.000 | B12: Contrib. por Inspección Eléctrica y Mecánica-OIM | D12: 31000000
A13: 1.1.00.01.00.07.000 | B13: Derechos de Oficina | D13: =SUM(C14:C16) -> 10050000
A14: 1.1.00.01.00.07.001 | B14: Recupero de Gastos por Gestión de Cobranza Judiciales | C14: 3000000
A15: 1.1.00.01.00.07.002 | B15: Otros Derechos de Oficina | C15: 5500000
A16: 1.1.00.01.00.07.003 | B16: Interes Plan de Pago Tarjeta de Credito | C16: 1550000
A17: 1.1.00.01.00.08.000 | B17: Tasas por Servicios de Registro Civil | D17: =SUM(C18:C18) -> 500000
A18: 1.1.00.01.00.08.001 | B18: Tasas Registro Civil fijas | C18: 500000
A19: 1.1.00.01.00.09.000 | B19: Otros Tributos | D19: 1000000
A20: 1.1.00.01.00.10.000 | B20: Interes Inversiones Financieras | D20: 40000000
A21: 1.1.00.01.00.11.000 | B21: Tributos correspondientes a ejercicios anteriores | D21: =SUM(C22:C25) -> 304100000
A22: 1.1.00.01.00.11.001 | B22: Comercio e Industria 2022 y anteriores | C22: 22000000
A23: 1.1.00.01.00.11.002 | B23: Tasa a la Propiedad 2022 y anteriores | C23: 175000000
A24: 1.1.00.01.00.11.003 | B24: Contrib s/Automotores Ejerc. Anteriores | C24: 106800000
A25: 1.1.00.01.00.11.004 | B25: Deudas varias anteriores | C25: 300000
A26: 1.1.00.01.00.12.000 | B26: Contrib. Municipal s/Automotores y Similares | D26: 214000000
A27: 1.1.00.01.00.12.000 | B27: Tasa de insp.sobre Estructuras portantes | D27: 380000
A28: 1.1.00.02.00.00.000 | B28: OTROS INGRESOS DE JURISIDICCION MUNICIPAL | E28: =SUM(D29:D51) -> 82830000
A29: 1.1.00.02.00.01.000 | B29: Rentas que produce el Patrimonio Municipal | D29: =SUM(C30:C33) -> 1130000
A30: 1.1.00.02.00.01.001 | B30: Diferencia de Cambio Moneda Extranjera | C30: 30000
A31: 1.1.00.02.00.01.002 | B31: Chipiado de poda | C31: 300000
A32: 1.1.00.02.00.01.003 | B32: Otros Ingresos | C32: 500000
A33: 1.1.00.02.00.01.004 | B33: Venta de Materiales reciclables GIRSU | C33: 300000
A34: 1.1.00.02.00.02.000 | B34: Ingreso Centro Salud Municipal | D34: =SUM(C35:C37) -> 30000000
A35: 1.1.00.02.00.02.001 | B35: Bonos Centros de Salud (Talar-Centro) | C35: 20000000
A36: 1.1.00.02.00.02.002 | B36: Red Sanitaria | C36: 2000000
A37: 1.1.00.02.00.02.003 | B37: Recupero Plan SUMAR | C37: 8000000
A38: MUNICIPALIDAD DE MENDIOLAZA P R I M E R A P A R T E - I N G R E S O S | E38: A Ñ O 2 0 2 3 | G38: Hoja Nº 2
A39: CODIGO | C39: SUBRUBROS | D39: RUBROS | E39: TOTAL ITEM | F39: INCISO | G39: TOTAL ANEXO
A40: 1.1.00.02.00.03.000 | B40: Oficina Administrativa de Faltas | D40: =SUM(C41:C44) -> 5000000
...

Sheet Egresos
A1: MUNICIPALIDAD DE MENDIOLAZA S E G U N D A P A R T E - E G R E S O S | J1: A Ñ O 2 0 2 3 | L1: Hoja Nº 1
A2: CODIGO | B2: CONCEPTO | D2: MENSUAL | E2: ANUAL | F2: SUBPART. | G2: PARTIDA | H2: SUBITEM | I2: ITEM | J2: PART.PPAL. | K2: INCISO | L2: ANEXO
B3: A D M I N I S T R A C I O N M U N I C I P A L
A4: 1.0.00.00.00.00.000 | B4: EROGACIONES CORRIENTES | L4: =SUM(K5:K406) -> 1640660000
A5: 1.1.00.00.00.00.000 | B5: FUNCIONAMIENTO | K5: =SUM(J6:J294) -> 1431740000
A6: 1.1.01.00.00.00.000 | B6: PERSONAL | J6: =SUM(I8:I164) -> 1053000000
A7: 1.1.01.01.00.00.000 | B7: AUTORIDADES SUPERIORES Y
B8: PERSONAL PERMANENTE | I8: =SUM(H9:H148) -> 679617699
A9: 1.1.01.01.01.00.000 | B9: Sueldos Básicos | H9: =SUM(G10:G114) -> 205343899
A10: 1.1.01.01.01.01.000 | B10: Autoridades Superiores | G10: =SUM(F11:F32) -> 48392310
A11: 1.1.01.01.01.01.001 | B11: Intendente | C11: 1 | D11: 431781 | E11: =D11*12 -> 5181372 | F11: =E11*1 -> 5181372
A12: 1.1.01.01.01.01.002 | B12: Secretario de Gobierno | C12: 1 | D12: 302074 | E12: =D12*12 -> 3624888 | F12: =E12*1 -> 3624888
A13: 1.1.01.01.01.01.003 | B13: Secretario de Catastro y Obras Privadas | C13: 1 | D13: 302074 | E13: =D13*12 -> 3624888 | F13: =E13*1 -> 3624888
A14: 1.1.01.01.01.01.004 | B14: Secretario de Hacienda | C14: 1 | D14: 302074 | E14: =D14*12 -> 3624888 | F14: =E14*1 -> 3624888
A15: 1.1.01.01.01.01.005 | B15: Secretario de Mantenimiento y Servicios Publicos | C15: 1 | D15: 302074 | E15: =D15*12 -> 3624888 | F15: =E15*1 -> 3624888
A16: 1.1.01.01.01.01.006 | B16: Secretario de Gestion Publica | C16: 1 | D16: 302074 | E16: =D16*12 -> 3624888 | F16: =E16*1 -> 3624888
A17: 1.1.01.01.01.01.007 | B17: Secretario Seguridad Ciudadana | C17: 1 | D17: 302074 | E17: =D17*12 -> 3624888 | F17: =E17*1 -> 3624888
A18: 1.1.01.01.01.01.008 | B18: Secretaria de Planificacion y Vinculación Institucional | C18: 1 | D18: 302074 | E18: =D18*12 -> 3624888 | F18: =E18*1 -> 3624888
A19: 1.1.01.01.01.02.000 | B19: Personal de Gabinete
A20: 1.1.01.01.01.02.01 | B20: Direccion de Mantenimiento y Servicios | C20: 1 | D20: 145014 | E20: =D20*12 -> 1740168 | F20: =E20*1 -> 1740168
A21: 1.1.01.01.01.02.02 | B21: Direccion de Comercio e Industria | C21: 1 | D21: 145014 | E21: =D21*12 -> 1740168 | F21: =E21*1 -> 1740168
A22: 1.1.01.01.01.02.03 | B22: Direccion de Medio Ambiente | C22: 1 | D22: 145014 | E22: =D22*1 -> 145014 | F22: =E22*1 -> 145014
A23: 1.1.01.01.01.02.04 | B23: Direccion de Planificación Estratégica | C23: 1 | D23: 145014 | E23: =D23*12 -> 1740168 | F23: =E23*1 -> 1740168
A24: 1.1.01.01.01.02.05 | B24: Direccion de Vinculación Intitucional | C24: 1 | D24: 145014 | E24: =D24*12 -> 1740168 | F24: =E24*1 -> 1740168
A25: 1.1.01.01.01.02.06 | B25: Direccion de Cultura y Turismo | C25: 1 | D25: 145014 | E25: =D25*12 -> 1740168 | F25: =E25*1 -> 1740168
A26: 1.1.01.01.01.02.07 | B26: Direccion S.I.C.O.P.R.E.V. | C26: 1 | D26: 145014 | E26: =D26*12 -> 1740168 | F26: =E26*1 -> 1740168
A27: 1.1.01.01.01.02.08 | B27: Direccion Centro de Salud | C27: 1 | D27: 145014 | E27: =D27*12 -> 1740168 | F27: =E27*1 -> 1740168
A28: 1.1.01.01.01.02.09 | B28: Direccion Comunicación Insitucional | C28: 1 | D28: 145014 | E28: =D28*12 -> 1740168 | F28: =E28*1 -> 1740168
A29: 1.1.01.01.01.02.010 | B29: Direccion de Deportes y Recreacion | C29: 1 | D29: 145014 | E29: =D29*1 -> 145014 | F29: =E29*1 -> 145014
A30: 1.1.01.01.01.02.011 | B30: Dirección de Capital Humano | C30: 1 | D30: 145014 | E30: =D30*1 -> 145014 | F30: =E30*1 -> 145014
A31: 1.1.01.01.01.02.012 | B31: Coordinadora de Comisiones Vecinales | C31: 1 | D31: 145014 | E31: =D31*12 -> 1740168 | F31: =E31*1 -> 1740168
A32: 1.1.01.01.01.02.013 | B32: Coordinador Compras y Servicios Publicos | C32: 1 | D32: 145014 | E32: =D32*12 -> 1740168 | F32: =E32*1 -> 1740168
B33: ADMINISTRATIVO
A34: 1.1.01.01.01.03.000 | B34: Personal Jerarquico | G34: =SUM(F35:F60) -> 13845937
A35: 1.1.01.01.01.03.001 | B35: Jefe de Departamento Coordinación (24) | C35: 1 | D35: 96616 | E35: =D35 -> 96616 | F35: =E35 -> 96616
A36: 1.1.01.01.01.03.002 | B36: Jefe de Departamento Obras Privadas (24) | C36: 1 | D36: 96616 | E36: =D36 -> 96616 | F36: =E36 -> 96616
A37: 1.1.01.01.01.03.003 | B37: Jefe de Departamento Administrativo Centro de Salud (24) | C37: 1 | D37: 96616 | E37: =+D37*12 -> 1159392 | F37: =+E37 -> 1159392
A38: 1.1.01.01.01.03.004 | B38: Jefe de Departamento Rentas Municipal (24) | C38: 1 | D38: 96616 | E38: =+D38 -> 96616 | F38: =+E38 -> 96616
A39: 1.1.01.01.01.03.005 | B39: Jefe de Departamento Seguridad Ciudadana (24) | C39: 1 | D39: 96616 | E39: =+D39 -> 96616 | F39: =+E39 -> 96616
A40: 1.1.01.01.01.03.006 | B40: Jefe de Departamento Tesorería y Contaduría (24) | C40: 1 | D40: 96616 | E40: =+D40 -> 96616 | F40: =+E40 -> 96616
...

Sheet Sinteticos
A2: MUNICIPALIDAD DE MENDIOLAZA PRESUPUESTO CALCULO DE RECURSOS SINTETICOS AÑO 2023
A5: ANEXO | B5: INCISO | C5: ITEM | D5: IMPORTE
B6: 1-INGRESOS DE JURISDICCION | C6: 1. Ingresos Tributarios
B7: MUNICIPAL | C7: (Tasas y Contribuciones) | D7: =+Ingresos!E5 -> 1018430000
B8: =D7+D9 -> 1101260000 | C8: 2. Otros Ingresos de Jurisd.
A9: 1-INGRESOS CORRIENTES | C9: Municipal | D9: =+Ingresos!E28 -> 82830000
A10: =B8+B12 -> 2415424489
B11: 2-DE OTRAS JURISDICCIONES | C11: 1. Participación Impuestos
B12: =D12+D13+D14 -> 1314164489 | C12: Pciales. y Nacionales | D12: =+Ingresos!E53 -> 837350000
C13: 2. Aportes No Reintegrables | D13: =+Ingresos!E64 -> 5000000
C14: 3. Ingresos de Otras Jurisd. | D14: =+Ingresos!E66 -> 471814489
B17: 1-USO DEL CREDITO | C17: 1. De Instituciones Bancarias | D17: =+Ingresos!E86 -> 44746876
B18: =+Ingresos!F85 -> 44746876
A19: 2-INGRESOS DE CAPITAL
A20: =B18+B20+B23+B26 -> 2.1087688e+08
B22: 2-VTA. DE BIENES PATRIMONIALES
B23: =D22+D23 -> 16130000 | C23: 2. Bienes Muebles | D23: =+Ingresos!E92 -> 16130000
B25: 4-OTROS INGRESOS DE CAPITAL
B26: =D25+D26 -> 150000000 | C26: 1. Exced. Liq. Ejerc. Ant. | D26: =+Ingresos!F95 -> 150000000
C28: TOTAL ANEXO I Y II | D28: =SUM(D6:D26) -> 2.6263014e+09
A30: 3-NO CLASIFICADOS | B30: 1-CUENTAS DE ORDEN | C30: 1. Por Trabajos Públicos | D30: =+Ingresos!E101 -> 400000
A31: =B31 -> 2.3159864e+08 | B31: =D33 -> 2.3159864e+08 | C31: 2. Otras Causas | D31: =+Ingresos!E104 -> 2.3119864e+08
C33: TOTAL ANEXO III | D33: =D30+D31 -> 2.3159864e+08
C34: TOTAL GENERAL | D34: =D28+D33 -> 2857900000
A36: MUNICIPALIDAD DE MENDIOLAZA | B36: PRESUPUESTO DE GASTOS SINTETICOS AÑO 2023
B38: A D M I N I S T R A C I O N M U N I C I P A L
A39: ANEXO | B39: ADICIONALES Y SUPLEMENTOS VARIOS | C39: PARTIDA PRINCIPAL | D39: IMPORTE
B40: 1-FUNCIONAMIENTO | C40: 1. Personal | D40: =+Egresos!J6 -> 1053000000
B41: =SUM(D40:D42) -> 1431740000 | C41: 2. Bienes de Consumo | D41: =+Egresos!J165 -> 146270000
C42: 3. Servicios | D42: =+Egresos!J294 -> 232470000
A44: 1-EROGACIONES CORRIENTES | B44: 2-INTERESES Y GASTOS
B45: DE LA DEUDA | C45: 4. Intereses y gastos de la Deuda | D45: =+Egresos!J400 -> 9900000
B46: =D45 -> 9900000
A47: =B41+B46+B49 -> 1640660000
B48: 3-TRANSFERENCIAS | C48: 5. Transf. p/Financiar Erogaciones
B49: =D49+D51 -> 199020000 | C49: Corrientes | D49: =+Egresos!J407 -> 199020000
C50: 6. Transf. p/Financiar Erogaciones
C51: de Capital
B53: 1-INVERSION FISICA | C53: 7. Bienes de Capital | D53: =+Egresos!J466 -> 58000000
B54: =D53+D54 -> 8.7279886e+08 | C54: 8. Trabajos Públicos | D54: =+Egresos!I486 -> 8.1479886e+08
...

Sheet Porcentuales
B2: MUNICIPALIDAD DE MENDIOLAZA
B3: CUADROS COMPLEMENTARIOS Y DE ESTUDIO DE PRESUPUESTOS Y CALCULO DE RECURSOS AÑO 2023
B6: GASTOS TOTALES | C6: EROGACIONES CORRIENTES | D6: % | F6: EROGACIONES DE CAPITAL | G6: % | H6: NO CLASIFICADOS | I6: %
B7: =+H7+F7+C7 -> 2857900000 | C7: =+Sinteticos!A47+Sinteticos!A65+Sinteticos!A89+Sinteticos!A114 -> 1734852500 | D7: =C7*100/B7 -> 60.703751 | F7: =+Sinteticos!A57+Sinteticos!A71+Sinteticos!A99+Sinteticos!A124 -> 8.9144886e+08 | G7: =F7*100/B7 -> 31.192444 | H7: =+Sinteticos!A74 -> 2.3159864e+08 | I7: =H7*100/B7 -> 8.1038047
B8: RECURSOS TOTALES | C8: RECURSOS CORRIENTES | D8: % | F8: INGRESOS DE CAPITAL | G8: % | H8: NO CLASIFICADOS | I8: %
B9: =+Sinteticos!D34 -> 2857900000 | C9: =+Sinteticos!A10 -> 2415424489 | D9: =C9*100/B9 -> 84.51746 | F9: =+Sinteticos!A20 -> 2.1087688e+08 | G9: =F9*100/B9 -> 7.3787353 | H9: =+Sinteticos!A31 -> 2.3159864e+08 | I9: =H9*100/B9 -> 8.1038047
B12: ANALISIS DE PARTIDAS PRINCIPALES | F12: ANALISIS DE ITEMS
B14: PARTIDAS PRINCIPALES | C14: IMPORTES | D14: % | F14: ITEMS | H14: IMPORTE | I14: %
B15: PERSONAL | C15: =+Sinteticos!D40 -> 1053000000 | D15: =C15*100/B9 -> 36.845236 | F15: I-1-I INGRESOS TRIBUTARIOS | H15: =+Sinteticos!D7 -> 1018430000 | I15: =H15*100/B9 -> 35.635607
B16: BS. DE CONSUMO | C16: =+Sinteticos!D41 -> 146270000 | D16: =C16*100/B9 -> 5.1180937 | F16: I-1-II OTROS INGR. JURISD. MUNICIP. | H16: =+Sinteticos!D9 -> 82830000 | I16: =H16*100/B9 -> 2.898282
B17: SERVICIOS | C17: =+Sinteticos!D42 -> 232470000 | D17: =C17*100/B9 -> 8.1342944 | F17: I-2-I PART.IMPUESTOS PCIALES. Y NAC. | H17: =+Sinteticos!D12 -> 837350000 | I17: =H17*100/B9 -> 29.299486
B18: INTERESES Y GTOS. DE LA DEUDA | C18: =+Sinteticos!D45 -> 9900000 | D18: =C18*100/B9 -> 0.3464082 | F18: I-2-II APORTES NO REITEGRABLES | H18: =+Sinteticos!D13 -> 5000000 | I18: =H18*100/B9 -> 0.17495364
B19: TRANSF. P/FIN. EROG. CORRIENTES | C19: =+Sinteticos!D49 -> 199020000 | D19: =C19*100/B9 -> 6.9638546 | F19: I-2-III INGR. DE OTRAS JURISDICCIONES | H19: =+Sinteticos!D14 -> 471814489 | I19: =H19*100/B9 -> 16.509132
B20: TRANSF. P/FIN. EROG. CAPITAL | C20: -- | F20: II-1-I DE INSTITUCIONES BANCARIAS | H20: =+Sinteticos!D16 | I20: =H20*100/B9 -> 0
B21: BIENES DE CAPITAL | C21: =+Sinteticos!D53 -> 58000000 | D21: =C21*100/B9 -> 2.0294622 | F21: II-1-II DE OTRAS INSTITUCIONES | H21: =+Sinteticos!D17 -> 44746876 | I21: =H21*100/B9 -> 1.5657257
B22: TRABAJOS PUBLICOS | C22: =+Sinteticos!D54 -> 8.1479886e+08 | D22: =C22*100/B9 -> 28.510405 | F22: II-2-II DE OTROS PRESTAMOS | H22: --- | I22: ---
B23: VALORES FINANCIEROS | C23: -- | F23: II-3-I BIENES INMUEBLES | H23: =+Sinteticos!D22 | I23: =H23*100/B9 -> 0
B24: AMORTIZACION DE LA DEUDA | C24: =+Sinteticos!B60 -> 14350000 | D24: =C24*100/B9 -> 0.50211694 | F24: II-3-II BIENES MUEBLES | H24: =+Sinteticos!D23 -> 16130000 | I24: =H24*100/B9 -> 0.56440043
B25: SALUD | C25: =+Sinteticos!A65+Sinteticos!A71 -> 68250000 | D25: =C25*100/B9 -> 2.3881171 | F25: II-4-II EXCED. LIQ. EJERCICIOS ANT. | H25: =+Sinteticos!D26 -> 150000000 | I25: =H25*100/B9 -> 5.2486091
B26: NO CLASIFICADOS | C26: =+Sinteticos!A74 -> 2.3159864e+08 | D26: =C26*100/B9 -> 8.1038047 | F26: III NO CLASIFICADOS | H26: =+Sinteticos!D33 -> 2.3159864e+08 | I26: =H26*100/B9 -> 8.1038047
B27: CONCEJO DELIBERANTE | C27: =+Sinteticos!D101 -> 21510000 | D27: =C27*100/B9 -> 0.75265055
B28: TRIBUNAL DE CUENTAS | C28: =+Sinteticos!D126 -> 8732500 | D28: =C28*100/B9 -> 0.30555653
B29: TOTAL | C29: =SUM(C15:C28) -> 2857900000 | D29: =SUM(D15:D28) -> 100 | F29: TOTAL | H29: =SUM(H15:H26) -> 2857900000 | I29: =SUM(I15:I26) -> 100
C63: 1. Personal
C64: 2. Bienes de Consumo
B76: PRESUPUESTO DE GASTOS SINTETICOS AÑO 2020
C80: 1. Personal
C82: 3. Servicios
B101: PRESUPUESTO DE GASTOS SINTETICOS AÑO 2020

Sheet Datos de Graficos
A1: PERSONAL | B1: =+Sinteticos!D40 -> 1053000000
A2: BIENES DE CONSUMO | B2: =+Sinteticos!D41 -> 146270000
A3: SERVICIOS | B3: =+Sinteticos!D42 -> 232470000
A4: INTERESES Y GTOS. DE LA DEUDA | B4: =+Sinteticos!D45 -> 9900000
A5: TRANSF. P/FIN. EROG. CORRIENTES | B5: =+Porcentuales!C19 -> 199020000
A6: BIENES DE CAPITAL | B6: =+Porcentuales!C21 -> 58000000
A7: TRABAJOS PUBLICOS | B7: =+Porcentuales!C22 -> 8.1479886e+08
A8: AMORTIZACION DE LA DEUDA | B8: =+Porcentuales!C24 -> 14350000
A9: NO CLASIFICADOS | B9: =+Sinteticos!A74 -> 2.3159864e+08
A10: CONCEJO DELIBERANTE | B10: =+Porcentuales!C27 -> 21510000
A11: TRIBUNAL DE CUENTAS | B11: =+Porcentuales!C28 -> 8732500
A12: SALUD | B12: =+Porcentuales!C25 -> 68250000
B14: =SUM(B1:B12) -> 2857900000
A17: INGRESOS TRIBUTARIOS | B17: =+Porcentuales!H15 -> 1018430000
A18: OTROS INGR. JURISD. MUNICIP. | B18: =+Porcentuales!H16 -> 82830000
A19: PART.IMPUESTOS PCIALES. Y NAC. | B19: =+Porcentuales!H17 -> 837350000
A20: APORTES NO REITEGRABLES | B20: =+Porcentuales!H18 -> 5000000
A21: INGR. DE OTRAS JURISDICCIONES | B21: =+Porcentuales!H19 -> 471814489
A22: DE OTRAS INSTITUCIONES | B22: =+Porcentuales!H21 -> 44746876
A23: BIENES MUEBLES | B23: =+Porcentuales!H24 -> 16130000
A24: EXCED. LIQ. EJERCICIOS ANT. | B24: =+Porcentuales!H25 -> 150000000
A25: NO CLASIFICADOS | B25: =+Porcentuales!H26 -> 2.3159864e+08
B27: =SUM(B17:B25) -> 2857900000
